BEGIN:VCALENDAR
VERSION:2.0
PRODID:-//Career Resources - ECPv6.15.18//NONSGML v1.0//EN
CALSCALE:GREGORIAN
METHOD:PUBLISH
X-WR-CALNAME:Career Resources
X-ORIGINAL-URL:https://careerresources.org
X-WR-CALDESC:Events for Career Resources
REFRESH-INTERVAL;VALUE=DURATION:PT1H
X-Robots-Tag:noindex
X-PUBLISHED-TTL:PT1H
BEGIN:VTIMEZONE
TZID:America/New_York
BEGIN:DAYLIGHT
TZOFFSETFROM:-0500
TZOFFSETTO:-0400
TZNAME:EDT
DTSTART:20230312T070000
END:DAYLIGHT
BEGIN:STANDARD
TZOFFSETFROM:-0400
TZOFFSETTO:-0500
TZNAME:EST
DTSTART:20231105T060000
END:STANDARD
BEGIN:DAYLIGHT
TZOFFSETFROM:-0500
TZOFFSETTO:-0400
TZNAME:EDT
DTSTART:20240310T070000
END:DAYLIGHT
BEGIN:STANDARD
TZOFFSETFROM:-0400
TZOFFSETTO:-0500
TZNAME:EST
DTSTART:20241103T060000
END:STANDARD
BEGIN:DAYLIGHT
TZOFFSETFROM:-0500
TZOFFSETTO:-0400
TZNAME:EDT
DTSTART:20250309T070000
END:DAYLIGHT
BEGIN:STANDARD
TZOFFSETFROM:-0400
TZOFFSETTO:-0500
TZNAME:EST
DTSTART:20251102T060000
END:STANDARD
END:VTIMEZONE
BEGIN:VEVENT
DTSTART;TZID=America/New_York:20241001T180000
DTEND;TZID=America/New_York:20241001T200000
DTSTAMP:20260423T143349
CREATED:20240117T185423Z
LAST-MODIFIED:20240117T185424Z
UID:9184-1727805600-1727812800@careerresources.org
SUMMARY:Hang Time Bridgeport
DESCRIPTION:Hang Time is a two-hour long gathering every Tuesday evening in a comfortable centrally located space provided by Bridgeport Neighborhood Trust. The unlikely brotherhood and sisterhood of ex-offenders\, legal and community leaders grows stronger each week when they all come together for a meal and group conversation. The environment is always welcoming and an informal forum for discussion. These free-flowing discussions run the gamut\, covering topics from politics\, race relations\, economics\, cultural diversity\, and bucket lists to the history of music to ways to conduct oneself during an encounter with the police. 
URL:https://careerresources.org/event/hang-time-bridgeport-35/
LOCATION:Burroughs Community Center\, 2470 Fairfield Avenue\, BRIDGEPORT\, Connecticut\, 06605\, United States
CATEGORIES:CALENDAR
ATTACH;FMTTYPE=image/jpeg:https://careerresources.org/wp-content/uploads/2024/01/Dual-Logo-Jpeg.jpg
END:VEVENT
BEGIN:VEVENT
DTSTART;TZID=America/New_York:20241003T180000
DTEND;TZID=America/New_York:20241003T200000
DTSTAMP:20260423T143349
CREATED:20240118T155937Z
LAST-MODIFIED:20240118T155939Z
UID:9357-1727978400-1727985600@careerresources.org
SUMMARY:Father's for Life Group Session
DESCRIPTION:Fathers For Life aims to strengthen the emotional\, financial\, and legal responsibilities of previously incarcerated and/or custodial and non-custodial fathers in need of supportive services by establishing paternity\, if necessary\, and supporting parents in becoming a more nurturing and supportive presence in the lives of their children. Group sessions offer guided support to each participant with leading industry personnel brought into sessions to speak to reach their maximum potential. Sessions go through curriculum topics to gain perspective\, build rapport\, trust and community. Light refreshments available.
URL:https://careerresources.org/event/fathers-for-life-group-session-29/
LOCATION:Career Resources\, Inc.\, 1000 Lafayette Blvd\, Bridgeport\, Connecticut\, 06604\, United States
CATEGORIES:CALENDAR
ATTACH;FMTTYPE=image/png:https://careerresources.org/wp-content/uploads/2024/01/FATHERS-FOR-LIFE-LOGO-2024-2.png
ORGANIZER;CN="Robert Pinnock":MAILTO:pinnock@careerresources.org
END:VEVENT
BEGIN:VEVENT
DTSTART;TZID=America/New_York:20241008T180000
DTEND;TZID=America/New_York:20241008T200000
DTSTAMP:20260423T143349
CREATED:20240117T185618Z
LAST-MODIFIED:20240117T185620Z
UID:9186-1728410400-1728417600@careerresources.org
SUMMARY:Hang Time Bridgeport
DESCRIPTION:Hang Time is a two-hour long gathering every Tuesday evening in a comfortable centrally located space provided by Bridgeport Neighborhood Trust. The unlikely brotherhood and sisterhood of ex-offenders\, legal and community leaders grows stronger each week when they all come together for a meal and group conversation. The environment is always welcoming and an informal forum for discussion. These free-flowing discussions run the gamut\, covering topics from politics\, race relations\, economics\, cultural diversity\, and bucket lists to the history of music to ways to conduct oneself during an encounter with the police. 
URL:https://careerresources.org/event/hang-time-bridgeport-36/
LOCATION:Burroughs Community Center\, 2470 Fairfield Avenue\, BRIDGEPORT\, Connecticut\, 06605\, United States
CATEGORIES:CALENDAR
ATTACH;FMTTYPE=image/jpeg:https://careerresources.org/wp-content/uploads/2024/01/Dual-Logo-Jpeg.jpg
END:VEVENT
BEGIN:VEVENT
DTSTART;TZID=America/New_York:20241010T180000
DTEND;TZID=America/New_York:20241010T200000
DTSTAMP:20260423T143349
CREATED:20240118T160134Z
LAST-MODIFIED:20240118T160136Z
UID:9359-1728583200-1728590400@careerresources.org
SUMMARY:Father's for Life Group Session
DESCRIPTION:Fathers For Life aims to strengthen the emotional\, financial\, and legal responsibilities of previously incarcerated and/or custodial and non-custodial fathers in need of supportive services by establishing paternity\, if necessary\, and supporting parents in becoming a more nurturing and supportive presence in the lives of their children. Group sessions offer guided support to each participant with leading industry personnel brought into sessions to speak to reach their maximum potential. Sessions go through curriculum topics to gain perspective\, build rapport\, trust and community. Light refreshments available.
URL:https://careerresources.org/event/fathers-for-life-group-session-30/
LOCATION:Career Resources\, Inc.\, 1000 Lafayette Blvd\, Bridgeport\, Connecticut\, 06604\, United States
CATEGORIES:CALENDAR
ATTACH;FMTTYPE=image/png:https://careerresources.org/wp-content/uploads/2024/01/FATHERS-FOR-LIFE-LOGO-2024-2.png
ORGANIZER;CN="Robert Pinnock":MAILTO:pinnock@careerresources.org
END:VEVENT
BEGIN:VEVENT
DTSTART;TZID=America/New_York:20241015T180000
DTEND;TZID=America/New_York:20241015T200000
DTSTAMP:20260423T143349
CREATED:20240117T185743Z
LAST-MODIFIED:20240117T185745Z
UID:9188-1729015200-1729022400@careerresources.org
SUMMARY:Hang Time Bridgeport
DESCRIPTION:Hang Time is a two-hour long gathering every Tuesday evening in a comfortable centrally located space provided by Bridgeport Neighborhood Trust. The unlikely brotherhood and sisterhood of ex-offenders\, legal and community leaders grows stronger each week when they all come together for a meal and group conversation. The environment is always welcoming and an informal forum for discussion. These free-flowing discussions run the gamut\, covering topics from politics\, race relations\, economics\, cultural diversity\, and bucket lists to the history of music to ways to conduct oneself during an encounter with the police. 
URL:https://careerresources.org/event/hang-time-bridgeport-37/
LOCATION:Burroughs Community Center\, 2470 Fairfield Avenue\, BRIDGEPORT\, Connecticut\, 06605\, United States
CATEGORIES:CALENDAR
ATTACH;FMTTYPE=image/jpeg:https://careerresources.org/wp-content/uploads/2024/01/Dual-Logo-Jpeg.jpg
END:VEVENT
BEGIN:VEVENT
DTSTART;TZID=America/New_York:20241017T180000
DTEND;TZID=America/New_York:20241017T200000
DTSTAMP:20260423T143349
CREATED:20240118T160559Z
LAST-MODIFIED:20240118T160600Z
UID:9361-1729188000-1729195200@careerresources.org
SUMMARY:Father's for Life Group Session
DESCRIPTION:Fathers For Life aims to strengthen the emotional\, financial\, and legal responsibilities of previously incarcerated and/or custodial and non-custodial fathers in need of supportive services by establishing paternity\, if necessary\, and supporting parents in becoming a more nurturing and supportive presence in the lives of their children. Group sessions offer guided support to each participant with leading industry personnel brought into sessions to speak to reach their maximum potential. Sessions go through curriculum topics to gain perspective\, build rapport\, trust and community. Light refreshments available.
URL:https://careerresources.org/event/fathers-for-life-group-session-31/
LOCATION:Career Resources\, Inc.\, 1000 Lafayette Blvd\, Bridgeport\, Connecticut\, 06604\, United States
CATEGORIES:CALENDAR
ATTACH;FMTTYPE=image/png:https://careerresources.org/wp-content/uploads/2024/01/FATHERS-FOR-LIFE-LOGO-2024-2.png
ORGANIZER;CN="Robert Pinnock":MAILTO:pinnock@careerresources.org
END:VEVENT
BEGIN:VEVENT
DTSTART;TZID=America/New_York:20241022T180000
DTEND;TZID=America/New_York:20241022T200000
DTSTAMP:20260423T143349
CREATED:20240117T185845Z
LAST-MODIFIED:20240117T185847Z
UID:9190-1729620000-1729627200@careerresources.org
SUMMARY:Hang Time Bridgeport
DESCRIPTION:Hang Time is a two-hour long gathering every Tuesday evening in a comfortable centrally located space provided by Bridgeport Neighborhood Trust. The unlikely brotherhood and sisterhood of ex-offenders\, legal and community leaders grows stronger each week when they all come together for a meal and group conversation. The environment is always welcoming and an informal forum for discussion. These free-flowing discussions run the gamut\, covering topics from politics\, race relations\, economics\, cultural diversity\, and bucket lists to the history of music to ways to conduct oneself during an encounter with the police. 
URL:https://careerresources.org/event/hang-time-bridgeport-38/
LOCATION:Burroughs Community Center\, 2470 Fairfield Avenue\, BRIDGEPORT\, Connecticut\, 06605\, United States
CATEGORIES:CALENDAR
ATTACH;FMTTYPE=image/jpeg:https://careerresources.org/wp-content/uploads/2024/01/Dual-Logo-Jpeg.jpg
END:VEVENT
BEGIN:VEVENT
DTSTART;TZID=America/New_York:20241024T180000
DTEND;TZID=America/New_York:20241024T200000
DTSTAMP:20260423T143349
CREATED:20240118T160656Z
LAST-MODIFIED:20240118T160657Z
UID:9363-1729792800-1729800000@careerresources.org
SUMMARY:Father's for Life Group Session
DESCRIPTION:Fathers For Life aims to strengthen the emotional\, financial\, and legal responsibilities of previously incarcerated and/or custodial and non-custodial fathers in need of supportive services by establishing paternity\, if necessary\, and supporting parents in becoming a more nurturing and supportive presence in the lives of their children. Group sessions offer guided support to each participant with leading industry personnel brought into sessions to speak to reach their maximum potential. Sessions go through curriculum topics to gain perspective\, build rapport\, trust and community. Light refreshments available.
URL:https://careerresources.org/event/fathers-for-life-group-session-32/
LOCATION:Career Resources\, Inc.\, 1000 Lafayette Blvd\, Bridgeport\, Connecticut\, 06604\, United States
CATEGORIES:CALENDAR
ATTACH;FMTTYPE=image/png:https://careerresources.org/wp-content/uploads/2024/01/FATHERS-FOR-LIFE-LOGO-2024-2.png
ORGANIZER;CN="Robert Pinnock":MAILTO:pinnock@careerresources.org
END:VEVENT
BEGIN:VEVENT
DTSTART;TZID=America/New_York:20241029T180000
DTEND;TZID=America/New_York:20241029T200000
DTSTAMP:20260423T143349
CREATED:20240117T185940Z
LAST-MODIFIED:20240117T185941Z
UID:9192-1730224800-1730232000@careerresources.org
SUMMARY:Hang Time Bridgeport
DESCRIPTION:Hang Time is a two-hour long gathering every Tuesday evening in a comfortable centrally located space provided by Bridgeport Neighborhood Trust. The unlikely brotherhood and sisterhood of ex-offenders\, legal and community leaders grows stronger each week when they all come together for a meal and group conversation. The environment is always welcoming and an informal forum for discussion. These free-flowing discussions run the gamut\, covering topics from politics\, race relations\, economics\, cultural diversity\, and bucket lists to the history of music to ways to conduct oneself during an encounter with the police. 
URL:https://careerresources.org/event/hang-time-bridgeport-39/
LOCATION:Burroughs Community Center\, 2470 Fairfield Avenue\, BRIDGEPORT\, Connecticut\, 06605\, United States
CATEGORIES:CALENDAR
ATTACH;FMTTYPE=image/jpeg:https://careerresources.org/wp-content/uploads/2024/01/Dual-Logo-Jpeg.jpg
END:VEVENT
BEGIN:VEVENT
DTSTART;TZID=America/New_York:20241031T180000
DTEND;TZID=America/New_York:20241031T200000
DTSTAMP:20260423T143349
CREATED:20240118T162127Z
LAST-MODIFIED:20240118T162449Z
UID:9365-1730397600-1730404800@careerresources.org
SUMMARY:Father's for Life Group Session
DESCRIPTION:Fathers For Life aims to strengthen the emotional\, financial\, and legal responsibilities of previously incarcerated and/or custodial and non-custodial fathers in need of supportive services by establishing paternity\, if necessary\, and supporting parents in becoming a more nurturing and supportive presence in the lives of their children. Group sessions offer guided support to each participant with leading industry personnel brought into sessions to speak to reach their maximum potential. Sessions go through curriculum topics to gain perspective\, build rapport\, trust and community. Light refreshments available.
URL:https://careerresources.org/event/fathers-for-life-group-session-33/
LOCATION:Career Resources\, Inc.\, 1000 Lafayette Blvd\, Bridgeport\, Connecticut\, 06604\, United States
CATEGORIES:CALENDAR
ATTACH;FMTTYPE=image/png:https://careerresources.org/wp-content/uploads/2024/01/FATHERS-FOR-LIFE-LOGO-2024-2.png
ORGANIZER;CN="Robert Pinnock":MAILTO:pinnock@careerresources.org
END:VEVENT
END:VCALENDAR