BEGIN:VCALENDAR
VERSION:2.0
PRODID:-//Career Resources - ECPv6.15.18//NONSGML v1.0//EN
CALSCALE:GREGORIAN
METHOD:PUBLISH
X-WR-CALNAME:Career Resources
X-ORIGINAL-URL:https://careerresources.org
X-WR-CALDESC:Events for Career Resources
REFRESH-INTERVAL;VALUE=DURATION:PT1H
X-Robots-Tag:noindex
X-PUBLISHED-TTL:PT1H
BEGIN:VTIMEZONE
TZID:America/New_York
BEGIN:DAYLIGHT
TZOFFSETFROM:-0500
TZOFFSETTO:-0400
TZNAME:EDT
DTSTART:20230312T070000
END:DAYLIGHT
BEGIN:STANDARD
TZOFFSETFROM:-0400
TZOFFSETTO:-0500
TZNAME:EST
DTSTART:20231105T060000
END:STANDARD
BEGIN:DAYLIGHT
TZOFFSETFROM:-0500
TZOFFSETTO:-0400
TZNAME:EDT
DTSTART:20240310T070000
END:DAYLIGHT
BEGIN:STANDARD
TZOFFSETFROM:-0400
TZOFFSETTO:-0500
TZNAME:EST
DTSTART:20241103T060000
END:STANDARD
BEGIN:DAYLIGHT
TZOFFSETFROM:-0500
TZOFFSETTO:-0400
TZNAME:EDT
DTSTART:20250309T070000
END:DAYLIGHT
BEGIN:STANDARD
TZOFFSETFROM:-0400
TZOFFSETTO:-0500
TZNAME:EST
DTSTART:20251102T060000
END:STANDARD
END:VTIMEZONE
BEGIN:VEVENT
DTSTART;TZID=America/New_York:20241107T180000
DTEND;TZID=America/New_York:20241107T200000
DTSTAMP:20260423T132203
CREATED:20240118T162608Z
LAST-MODIFIED:20240118T162610Z
UID:9367-1731002400-1731009600@careerresources.org
SUMMARY:Father's for Life Group Session
DESCRIPTION:Fathers For Life aims to strengthen the emotional\, financial\, and legal responsibilities of previously incarcerated and/or custodial and non-custodial fathers in need of supportive services by establishing paternity\, if necessary\, and supporting parents in becoming a more nurturing and supportive presence in the lives of their children. Group sessions offer guided support to each participant with leading industry personnel brought into sessions to speak to reach their maximum potential. Sessions go through curriculum topics to gain perspective\, build rapport\, trust and community. Light refreshments available.
URL:https://careerresources.org/event/fathers-for-life-group-session-34/
LOCATION:Career Resources\, Inc.\, 1000 Lafayette Blvd\, Bridgeport\, Connecticut\, 06604\, United States
CATEGORIES:CALENDAR
ATTACH;FMTTYPE=image/png:https://careerresources.org/wp-content/uploads/2024/01/FATHERS-FOR-LIFE-LOGO-2024-2.png
ORGANIZER;CN="Robert Pinnock":MAILTO:pinnock@careerresources.org
END:VEVENT
BEGIN:VEVENT
DTSTART;TZID=America/New_York:20241112T180000
DTEND;TZID=America/New_York:20241112T200000
DTSTAMP:20260423T132203
CREATED:20240117T190048Z
LAST-MODIFIED:20240117T190049Z
UID:9194-1731434400-1731441600@careerresources.org
SUMMARY:Hang Time Bridgeport
DESCRIPTION:Hang Time is a two-hour long gathering every Tuesday evening in a comfortable centrally located space provided by Bridgeport Neighborhood Trust. The unlikely brotherhood and sisterhood of ex-offenders\, legal and community leaders grows stronger each week when they all come together for a meal and group conversation. The environment is always welcoming and an informal forum for discussion. These free-flowing discussions run the gamut\, covering topics from politics\, race relations\, economics\, cultural diversity\, and bucket lists to the history of music to ways to conduct oneself during an encounter with the police. 
URL:https://careerresources.org/event/hang-time-bridgeport-40/
LOCATION:Burroughs Community Center\, 2470 Fairfield Avenue\, BRIDGEPORT\, Connecticut\, 06605\, United States
CATEGORIES:CALENDAR
ATTACH;FMTTYPE=image/jpeg:https://careerresources.org/wp-content/uploads/2024/01/Dual-Logo-Jpeg.jpg
END:VEVENT
BEGIN:VEVENT
DTSTART;TZID=America/New_York:20241119T180000
DTEND;TZID=America/New_York:20241119T200000
DTSTAMP:20260423T132203
CREATED:20240117T190709Z
LAST-MODIFIED:20240117T190710Z
UID:9198-1732039200-1732046400@careerresources.org
SUMMARY:Hang Time Bridgeport
DESCRIPTION:Hang Time is a two-hour long gathering every Tuesday evening in a comfortable centrally located space provided by Bridgeport Neighborhood Trust. The unlikely brotherhood and sisterhood of ex-offenders\, legal and community leaders grows stronger each week when they all come together for a meal and group conversation. The environment is always welcoming and an informal forum for discussion. These free-flowing discussions run the gamut\, covering topics from politics\, race relations\, economics\, cultural diversity\, and bucket lists to the history of music to ways to conduct oneself during an encounter with the police. 
URL:https://careerresources.org/event/hang-time-bridgeport-42/
LOCATION:Burroughs Community Center\, 2470 Fairfield Avenue\, BRIDGEPORT\, Connecticut\, 06605\, United States
CATEGORIES:CALENDAR
ATTACH;FMTTYPE=image/jpeg:https://careerresources.org/wp-content/uploads/2024/01/Dual-Logo-Jpeg.jpg
END:VEVENT
BEGIN:VEVENT
DTSTART;TZID=America/New_York:20241126T180000
DTEND;TZID=America/New_York:20241126T200000
DTSTAMP:20260423T132203
CREATED:20240117T190809Z
LAST-MODIFIED:20240117T190811Z
UID:9200-1732644000-1732651200@careerresources.org
SUMMARY:Hang Time Bridgeport
DESCRIPTION:Hang Time is a two-hour long gathering every Tuesday evening in a comfortable centrally located space provided by Bridgeport Neighborhood Trust. The unlikely brotherhood and sisterhood of ex-offenders\, legal and community leaders grows stronger each week when they all come together for a meal and group conversation. The environment is always welcoming and an informal forum for discussion. These free-flowing discussions run the gamut\, covering topics from politics\, race relations\, economics\, cultural diversity\, and bucket lists to the history of music to ways to conduct oneself during an encounter with the police. 
URL:https://careerresources.org/event/hang-time-bridgeport-43/
LOCATION:Burroughs Community Center\, 2470 Fairfield Avenue\, BRIDGEPORT\, Connecticut\, 06605\, United States
CATEGORIES:CALENDAR
ATTACH;FMTTYPE=image/jpeg:https://careerresources.org/wp-content/uploads/2024/01/Dual-Logo-Jpeg.jpg
END:VEVENT
END:VCALENDAR