BEGIN:VCALENDAR
VERSION:2.0
PRODID:-//Career Resources - ECPv6.15.18//NONSGML v1.0//EN
CALSCALE:GREGORIAN
METHOD:PUBLISH
X-ORIGINAL-URL:https://careerresources.org
X-WR-CALDESC:Events for Career Resources
REFRESH-INTERVAL;VALUE=DURATION:PT1H
X-Robots-Tag:noindex
X-PUBLISHED-TTL:PT1H
BEGIN:VTIMEZONE
TZID:America/New_York
BEGIN:DAYLIGHT
TZOFFSETFROM:-0500
TZOFFSETTO:-0400
TZNAME:EDT
DTSTART:20230312T070000
END:DAYLIGHT
BEGIN:STANDARD
TZOFFSETFROM:-0400
TZOFFSETTO:-0500
TZNAME:EST
DTSTART:20231105T060000
END:STANDARD
BEGIN:DAYLIGHT
TZOFFSETFROM:-0500
TZOFFSETTO:-0400
TZNAME:EDT
DTSTART:20240310T070000
END:DAYLIGHT
BEGIN:STANDARD
TZOFFSETFROM:-0400
TZOFFSETTO:-0500
TZNAME:EST
DTSTART:20241103T060000
END:STANDARD
BEGIN:DAYLIGHT
TZOFFSETFROM:-0500
TZOFFSETTO:-0400
TZNAME:EDT
DTSTART:20250309T070000
END:DAYLIGHT
BEGIN:STANDARD
TZOFFSETFROM:-0400
TZOFFSETTO:-0500
TZNAME:EST
DTSTART:20251102T060000
END:STANDARD
END:VTIMEZONE
BEGIN:VEVENT
DTSTART;TZID=America/New_York:20240604T103000
DTEND;TZID=America/New_York:20240604T123000
DTSTAMP:20260423T213722
CREATED:20240117T205222Z
LAST-MODIFIED:20240117T205224Z
UID:9265-1717497000-1717504200@careerresources.org
SUMMARY:Entry Point Staffing Orientation
DESCRIPTION:Entry Point Staffing (EPS) is a first-of-its-kind workforce training and temporary staffing program for system-impacted individuals across the state. During orientation agency staff will conduct an overview\, review expectations\, discuss open positions\, and work closely to match trained and motivated jobseekers with industry recognized employers and local businesses.
URL:https://careerresources.org/event/entry-point-staffing-orientation-20/
LOCATION:Career Resources\, Inc.\, 1000 Lafayette Blvd\, Bridgeport\, Connecticut\, 06604\, United States
CATEGORIES:CALENDAR
ATTACH;FMTTYPE=image/png:https://careerresources.org/wp-content/uploads/2023/08/entry-point-banner.png
ORGANIZER;CN="Markus Cherry":MAILTO:cherry@careerresources.org
END:VEVENT
END:VCALENDAR