BEGIN:VCALENDAR
VERSION:2.0
PRODID:-//Career Resources - ECPv6.15.18//NONSGML v1.0//EN
CALSCALE:GREGORIAN
METHOD:PUBLISH
X-WR-CALNAME:Career Resources
X-ORIGINAL-URL:https://careerresources.org
X-WR-CALDESC:Events for Career Resources
REFRESH-INTERVAL;VALUE=DURATION:PT1H
X-Robots-Tag:noindex
X-PUBLISHED-TTL:PT1H
BEGIN:VTIMEZONE
TZID:America/New_York
BEGIN:DAYLIGHT
TZOFFSETFROM:-0500
TZOFFSETTO:-0400
TZNAME:EDT
DTSTART:20220313T070000
END:DAYLIGHT
BEGIN:STANDARD
TZOFFSETFROM:-0400
TZOFFSETTO:-0500
TZNAME:EST
DTSTART:20221106T060000
END:STANDARD
BEGIN:DAYLIGHT
TZOFFSETFROM:-0500
TZOFFSETTO:-0400
TZNAME:EDT
DTSTART:20230312T070000
END:DAYLIGHT
BEGIN:STANDARD
TZOFFSETFROM:-0400
TZOFFSETTO:-0500
TZNAME:EST
DTSTART:20231105T060000
END:STANDARD
BEGIN:DAYLIGHT
TZOFFSETFROM:-0500
TZOFFSETTO:-0400
TZNAME:EDT
DTSTART:20240310T070000
END:DAYLIGHT
BEGIN:STANDARD
TZOFFSETFROM:-0400
TZOFFSETTO:-0500
TZNAME:EST
DTSTART:20241103T060000
END:STANDARD
BEGIN:DAYLIGHT
TZOFFSETFROM:-0500
TZOFFSETTO:-0400
TZNAME:EDT
DTSTART:20250309T070000
END:DAYLIGHT
BEGIN:STANDARD
TZOFFSETFROM:-0400
TZOFFSETTO:-0500
TZNAME:EST
DTSTART:20251102T060000
END:STANDARD
END:VTIMEZONE
BEGIN:VEVENT
DTSTART;TZID=America/New_York:20240130T103000
DTEND;TZID=America/New_York:20240130T123000
DTSTAMP:20260423T045917
CREATED:20240117T195050Z
LAST-MODIFIED:20240117T195051Z
UID:9223-1706610600-1706617800@careerresources.org
SUMMARY:Entry Point Staffing Orientation
DESCRIPTION:Entry Point Staffing (EPS) is a first-of-its-kind workforce training and temporary staffing program for system-impacted individuals across the state. During orientation agency staff will conduct an overview\, review expectations\, discuss open positions\, and work closely to match trained and motivated jobseekers with industry recognized employers and local businesses.
URL:https://careerresources.org/event/entry-point-staffing-orientation-2/
LOCATION:Career Resources\, Inc.\, 1000 Lafayette Blvd\, Bridgeport\, Connecticut\, 06604\, United States
CATEGORIES:CALENDAR
ATTACH;FMTTYPE=image/png:https://careerresources.org/wp-content/uploads/2023/08/entry-point-banner.png
ORGANIZER;CN="Markus Cherry":MAILTO:cherry@careerresources.org
END:VEVENT
BEGIN:VEVENT
DTSTART;TZID=America/New_York:20240125T180000
DTEND;TZID=America/New_York:20240125T200000
DTSTAMP:20260423T045917
CREATED:20240117T214340Z
LAST-MODIFIED:20240117T214341Z
UID:9284-1706205600-1706212800@careerresources.org
SUMMARY:Fathers For Life Group Sessions
DESCRIPTION:Fathers For Life aims to strengthen the emotional\, financial\, and legal responsibilities of previously incarcerated and/or custodial and non-custodial fathers in need of supportive services by establishing paternity\, if necessary\, and supporting parents in becoming a more nurturing and supportive presence in the lives of their children. Group sessions offer guided support to each participant with leading industry personnel brought into sessions to speak to reach their maximum potential. Sessions go through curriculum topics to gain perspective\, build rapport\, trust and community. Light refreshments available.
URL:https://careerresources.org/event/fathers-for-life-group-sessions-2/
LOCATION:Career Resources\, Inc.\, 1000 Lafayette Blvd\, Bridgeport\, Connecticut\, 06604\, United States
CATEGORIES:CALENDAR
ATTACH;FMTTYPE=image/png:https://careerresources.org/wp-content/uploads/2024/01/FATHERS-FOR-LIFE-LOGO-2024-2.png
ORGANIZER;CN="Robert Pinnock":MAILTO:pinnock@careerresources.org
END:VEVENT
BEGIN:VEVENT
DTSTART;TZID=America/New_York:20240123T180000
DTEND;TZID=America/New_York:20240123T200000
DTSTAMP:20260423T045917
CREATED:20240117T163014Z
LAST-MODIFIED:20240117T163515Z
UID:9107-1706032800-1706040000@careerresources.org
SUMMARY:Hang Time Bridgeport
DESCRIPTION:
URL:https://careerresources.org/event/hang-time-bridgeport/
LOCATION:Burroughs Community Center\, 2470 Fairfield Avenue\, BRIDGEPORT\, Connecticut\, 06605\, United States
CATEGORIES:CALENDAR
ATTACH;FMTTYPE=image/jpeg:https://careerresources.org/wp-content/uploads/2024/01/Dual-Logo-Jpeg.jpg
END:VEVENT
BEGIN:VEVENT
DTSTART;TZID=America/New_York:20240123T103000
DTEND;TZID=America/New_York:20240123T123000
DTSTAMP:20260423T045917
CREATED:20240117T194826Z
LAST-MODIFIED:20240117T202740Z
UID:9217-1706005800-1706013000@careerresources.org
SUMMARY:Entry Point Staffing Orientation
DESCRIPTION:Entry Point Staffing (EPS) is a first-of-its-kind workforce training and temporary staffing program for system-impacted individuals across the state. During orientation agency staff will conduct an overview\, review expectations\, discuss open positions\, and work closely to match trained and motivated jobseekers with industry recognized employers and local businesses.
URL:https://careerresources.org/event/entry-point-staffing-orientation/
LOCATION:Career Resources\, Inc.\, 1000 Lafayette Blvd\, Bridgeport\, Connecticut\, 06604\, United States
CATEGORIES:CALENDAR
ATTACH;FMTTYPE=image/png:https://careerresources.org/wp-content/uploads/2023/08/entry-point-banner.png
ORGANIZER;CN="Markus Cherry":MAILTO:cherry@careerresources.org
END:VEVENT
BEGIN:VEVENT
DTSTART;TZID=America/New_York:20240118T180000
DTEND;TZID=America/New_York:20240118T200000
DTSTAMP:20260423T045917
CREATED:20240117T210940Z
LAST-MODIFIED:20240117T211241Z
UID:9277-1705600800-1705608000@careerresources.org
SUMMARY:Father's for Life Group Sessions
DESCRIPTION:Fathers For Life aims to strengthen the emotional\, financial\, and legal responsibilities of previously incarcerated and/or custodial and non-custodial fathers in need of supportive services by establishing paternity\, if necessary\, and supporting parents in becoming a more nurturing and supportive presence in the lives of their children. Group sessions offer guided support to each participant with leading industry personnel brought into sessions to speak to reach their maximum potential. Sessions go through curriculum topics to gain perspective\, build rapport\, trust and community. Light refreshments available.
URL:https://careerresources.org/event/fathers-for-life-group-sessions/
LOCATION:Career Resources\, Inc.\, 1000 Lafayette Blvd\, Bridgeport\, Connecticut\, 06604\, United States
CATEGORIES:CALENDAR
ATTACH;FMTTYPE=image/png:https://careerresources.org/wp-content/uploads/2024/01/FATHERS-FOR-LIFE-LOGO-2024-2.png
ORGANIZER;CN="Robert Pinnock":MAILTO:pinnock@careerresources.org
END:VEVENT
BEGIN:VEVENT
DTSTART;TZID=America/New_York:20231018T113000
DTEND;TZID=America/New_York:20231018T153000
DTSTAMP:20260423T045917
CREATED:20231002T185528Z
LAST-MODIFIED:20231002T192535Z
UID:9039-1697628600-1697643000@careerresources.org
SUMMARY:Career and Resource Fair
DESCRIPTION:Register to discover a world of career possibilities\, connect with local employers\, and access valuable resources to empower your journey towards success! Scan the QR code to register now!
URL:https://careerresources.org/event/career-and-resource-fair/
LOCATION:American Job Center\, 2 Lafayette Square\, BRIDGEPORT\, Connecticut\, 06604\, United States
CATEGORIES:CALENDAR
ORGANIZER;CN="Rosa Dicker":MAILTO:dicker@careerresources.org
END:VEVENT
BEGIN:VEVENT
DTSTART;TZID=America/New_York:20230927T180000
DTEND;TZID=America/New_York:20230927T200000
DTSTAMP:20260423T045917
CREATED:20230920T145925Z
LAST-MODIFIED:20230920T145939Z
UID:9031-1695837600-1695844800@careerresources.org
SUMMARY:Champions for Justice Awards Ceremony
DESCRIPTION:The Champions for Justice Hispanic Awards Ceremony\, a celebration of outstanding individuals who have made significant contributions to the community.
URL:https://careerresources.org/event/champions-for-justice-awards-ceremony/
LOCATION:Housatonic Community College<br>Beacon Hall Event Center\, 900 Lafayette Boulevard\, Bridgeport\, 06604
CATEGORIES:CALENDAR
END:VEVENT
BEGIN:VEVENT
DTSTART;TZID=America/New_York:20230920T000000
DTEND;TZID=America/New_York:20230920T160000
DTSTAMP:20260423T045917
CREATED:20230920T134101Z
LAST-MODIFIED:20230920T135154Z
UID:9025-1695168000-1695225600@careerresources.org
SUMMARY:Fall Career & Resource Fair
DESCRIPTION:Discover a world of career possibilities\, connect with local employers\, and access valuable resources to empower your journey towards success!
URL:https://careerresources.org/event/fall-career-resource-fair/
LOCATION:American Job Center\, 249 Thomaston Ave\, Waterbury\, Connecticut\, 06702\, United States
CATEGORIES:CALENDAR
END:VEVENT
END:VCALENDAR